BEGIN:VCALENDAR
VERSION:2.0
PRODID:-//https://lapostrophe-old.ab-sites.fr///NONSGML kigkonsult.se iCalcreator 2.10.15//
METHOD:PUBLISH
BEGIN:VEVENT
UID:20260424T025115CEST-7138iKzF3R@https://lapostrophe-old.ab-sites.fr/
DTSTAMP:20260424T005115Z
DESCRIPTION: https://lapostrophe-old.ab-sites.fr/evenements/activites-diver
 ses/evenement/394-conference-les-chemins-de-lenfance
DTSTART:20260507T120000Z
DTEND:20260507T150000Z
LOCATION:CMA de Saint Barnabé 13012 ()
SUMMARY:Conférence : ' Les chemins de l'enfance '
URL:https://lapostrophe-old.ab-sites.fr/evenements/activites-diverses/evene
 ment/394-conference-les-chemins-de-lenfance
END:VEVENT
END:VCALENDAR
