BEGIN:VCALENDAR
VERSION:2.0
PRODID:-//https://lapostrophe-old.ab-sites.fr///NONSGML kigkonsult.se iCalcreator 2.10.15//
METHOD:PUBLISH
BEGIN:VEVENT
UID:20260425T153154CEST-03101tvEKt@https://lapostrophe-old.ab-sites.fr/
DTSTAMP:20260425T133154Z
DESCRIPTION: https://lapostrophe-old.ab-sites.fr/component/rseventspro/even
 ement/393-conference-la-poetique-du-jardin?Itemid=101
DTSTART:20260505T120000Z
DTEND:20260505T150000Z
LOCATION:Maison de Quartier Le FLORIDA (1 Boulevard Auguste Comte\, 13010\,
  10e Arrondissement\, Marseille\, Bouches-du-Rhône\, Provence-Alpes-Côte d
 'Azur)
SUMMARY:Conférence : ' La poétique du jardin '
URL:https://lapostrophe-old.ab-sites.fr/component/rseventspro/evenement/393
 -conference-la-poetique-du-jardin?Itemid=101
END:VEVENT
END:VCALENDAR
