BEGIN:VCALENDAR
VERSION:2.0
PRODID:-//https://lapostrophe-old.ab-sites.fr///NONSGML kigkonsult.se iCalcreator 2.10.15//
METHOD:PUBLISH
BEGIN:VEVENT
UID:20260422T191657CEST-24124WTBXV@https://lapostrophe-old.ab-sites.fr/
DTSTAMP:20260422T171657Z
DESCRIPTION: https://lapostrophe-old.ab-sites.fr/component/rseventspro/even
 ement/382-conference-francis-jammes?Itemid=101
DTSTART:20260317T130000Z
DTEND:20260317T160000Z
LOCATION:Espace Séniors Le Florian (197 Boulevard de Pont-de-Vivaux\, 13010
 \, MARSEILLE)
SUMMARY:Conférence : ' Francis Jammes '
URL:https://lapostrophe-old.ab-sites.fr/component/rseventspro/evenement/382
 -conference-francis-jammes?Itemid=101
END:VEVENT
END:VCALENDAR
