BEGIN:VCALENDAR
VERSION:2.0
PRODID:-//https://lapostrophe-old.ab-sites.fr///NONSGML kigkonsult.se iCalcreator 2.10.15//
METHOD:PUBLISH
BEGIN:VEVENT
UID:20260423T065556CEST-0276oCg9VW@https://lapostrophe-old.ab-sites.fr/
DTSTAMP:20260423T045556Z
DESCRIPTION: https://lapostrophe-old.ab-sites.fr/component/rseventspro/even
 ement/380-atelier-theatre?Itemid=101
DTSTART:20260310T130000Z
DTEND:20260310T153000Z
LOCATION:Maison de Quartier Le FLORIDA (1 Boulevard Auguste Comte\, 13010\,
  10e Arrondissement\, Marseille\, Bouches-du-Rhône\, Provence-Alpes-Côte d
 'Azur)
SUMMARY:Atelier théâtre
URL:https://lapostrophe-old.ab-sites.fr/component/rseventspro/evenement/380
 -atelier-theatre?Itemid=101
END:VEVENT
END:VCALENDAR
