BEGIN:VCALENDAR
VERSION:2.0
PRODID:-//https://lapostrophe-old.ab-sites.fr///NONSGML kigkonsult.se iCalcreator 2.10.15//
METHOD:PUBLISH
BEGIN:VEVENT
UID:20260425T135209CEST-8922kcjXPe@https://lapostrophe-old.ab-sites.fr/
DTSTAMP:20260425T115209Z
DESCRIPTION: https://lapostrophe-old.ab-sites.fr/component/rseventspro/even
 ement/378-conference-charles-baudelaire?Itemid=101
DTSTART:20260305T130000Z
DTEND:20260305T153000Z
LOCATION:CMA de Saint Barnabé 13012 ()
SUMMARY:Conférence : ' Charles Baudelaire '
URL:https://lapostrophe-old.ab-sites.fr/component/rseventspro/evenement/378
 -conference-charles-baudelaire?Itemid=101
END:VEVENT
END:VCALENDAR
