BEGIN:VCALENDAR
VERSION:2.0
PRODID:-//https://lapostrophe-old.ab-sites.fr///NONSGML kigkonsult.se iCalcreator 2.10.15//
METHOD:PUBLISH
BEGIN:VEVENT
UID:20260423T170401CEST-4538Os8bfR@https://lapostrophe-old.ab-sites.fr/
DTSTAMP:20260423T150401Z
DESCRIPTION: https://lapostrophe-old.ab-sites.fr/component/rseventspro/even
 ement/192-atelier-theatre?Itemid=101
DTSTART:20230623T121500Z
DTEND:20230623T150000Z
LOCATION:Maison de Quartier Le FLORIDA (1 Boulevard Auguste Comte\, 13010\,
  10e Arrondissement\, Marseille\, Bouches-du-Rhône\, Provence-Alpes-Côte d
 'Azur)
SUMMARY:Atelier théâtre
URL:https://lapostrophe-old.ab-sites.fr/component/rseventspro/evenement/192
 -atelier-theatre?Itemid=101
END:VEVENT
END:VCALENDAR
