BEGIN:VCALENDAR
VERSION:2.0
PRODID:-//https://lapostrophe-old.ab-sites.fr///NONSGML kigkonsult.se iCalcreator 2.10.15//
METHOD:PUBLISH
BEGIN:VEVENT
UID:20260424T060038CEST-5750uPflaL@https://lapostrophe-old.ab-sites.fr/
DTSTAMP:20260424T040038Z
DESCRIPTION: https://lapostrophe-old.ab-sites.fr/component/rseventspro/even
 ement/190-conference-alphonse-daudet?Itemid=101
DTSTART:20230614T123000Z
DTEND:20230614T150000Z
LOCATION:Espace Séniors Le Florian (197 Boulevard de Pont-de-Vivaux\, 13010
 \, MARSEILLE)
SUMMARY:Conférence : ' Alphonse Daudet '
URL:https://lapostrophe-old.ab-sites.fr/component/rseventspro/evenement/190
 -conference-alphonse-daudet?Itemid=101
END:VEVENT
END:VCALENDAR
