BEGIN:VCALENDAR
VERSION:2.0
PRODID:-//https://lapostrophe-old.ab-sites.fr///NONSGML kigkonsult.se iCalcreator 2.10.15//
METHOD:PUBLISH
BEGIN:VEVENT
UID:20260424T072231CEST-98710j5ISr@https://lapostrophe-old.ab-sites.fr/
DTSTAMP:20260424T052231Z
DESCRIPTION: https://lapostrophe-old.ab-sites.fr/component/rseventspro/even
 ement/189-conference-ou-atelier-theatre?Itemid=101
DTSTART:20230613T121500Z
DTEND:20230613T150000Z
LOCATION:Maison de Quartier Le FLORIDA (1 Boulevard Auguste Comte\, 13010\,
  10e Arrondissement\, Marseille\, Bouches-du-Rhône\, Provence-Alpes-Côte d
 'Azur)
SUMMARY:Conférence ou Atelier Théatre
URL:https://lapostrophe-old.ab-sites.fr/component/rseventspro/evenement/189
 -conference-ou-atelier-theatre?Itemid=101
END:VEVENT
END:VCALENDAR
